Workbook

Sheet Лист2
B1: Столбец 1 | C1: Столбец 2 | D1: Столбец 3 | E1: Столбец 4
A2: Столбец 1 | B2: 1
A3: Столбец 2 | B3: 0.42400309 | C3: 1
A4: Столбец 3 | B4: 0.38655435 | C4: 0.97780379 | D4: 1
A5: Столбец 4 | B5: -0.51445993 | C5: -0.40872334 | D5: -0.43825714 | E5: 1

Sheet Лист3
A1: ВЫВОД ИТОГОВ
A3: Регрессионная статистика
A4: Множественный R | B4: 0.60429536
A5: R-квадрат | B5: 0.36517289
A6: Нормированный R-квадрат | B6: 0.23820746
A7: Стандартная ошибка | B7: 1.9377742
A8: Наблюдения | B8: 19
A10: Дисперсионный анализ
B11: df | C11: SS | D11: MS | E11: F | F11: Значимость F
A12: Регрессия | B12: 3 | C12: 32.399676 | D12: 10.799892 | E12: 2.8761601 | F12: 0.070992461
A13: Остаток | B13: 15 | C13: 56.324535 | D13: 3.754969
A14: Итого | B14: 18 | C14: 88.724211
B16: Коэффициенты | C16: Стандартная ошибка | D16: t-статистика | E16: P-Значение | F16: Нижние 95% | G16: Верхние 95% | H16: Нижние 95,0% | I16: Верхние 95,0%
A17: Y-пересечение | B17: 5.7546213 | C17: 0.8649414 | D17: 6.6531921 | E17: 7.6987991e-06 | F17: 3.9110424 | G17: 7.5982002 | H17: 3.9110424 | I17: 7.5982002
A18: Переменная X 1 | B18: 1.3827798 | C18: 1.0878114 | D18: 1.2711576 | E18: 0.22303175 | F18: -0.93583534 | G18: 3.7013949 | H18: -0.93583534 | I18: 3.7013949
A19: Переменная X 2 | B19: -1.3134491 | C19: 1.2645106 | D19: -1.0387015 | E19: 0.31539818 | F19: -4.0086896 | G19: 1.3817914 | H19: -4.0086896 | I19: 1.3817914
A20: Переменная X 3 | B20: -0.053993681 | C20: 0.027141497 | D20: -1.9893406 | E20: 0.065218632 | F20: -0.11184441 | G20: 0.0038570495 | H20: -0.11184441 | I20: 0.0038570495

Sheet Лист1
A1: 10.7 | B1: 2.6 | C1: 1.5 | D1: 1.211189
A2: 6.2 | B2: 1 | C2: 1 | D2: 11.45238
A3: 6 | B3: 2.7 | C3: 2.6 | D3: 9.481818
A4: 2.7 | B4: 0.1 | C4: 0.2 | D4: 11.06849
A5: 1.9 | B5: 0.6 | C5: 0.6 | D5: 10.82
A6: 5.5 | B6: 8.4 | C6: 7 | D6: 1.459658
A7: 4.2 | B7: 0.6 | C7: 0.5 | D7: 6.071429
A8: 7.4 | B8: 1.6 | C8: 2.1 | D8: 1.691974
A9: 7 | B9: 3 | C9: 3.2 | D9: 1.512356
A10: 4 | B10: 0.1 | C10: 0.1 | D10: 37.80952
A11: 2.1 | B11: 0.1 | C11: 0.2 | D11: 29.53333
A12: 7.9 | B12: 3.3 | C12: 2.9 | D12: 6.700599
... A19: 2.6 | B19: 0.1 | C19: 0.1 | D19: 72.69231
A20: =AVERAGE(A1:A19) -> 5.1631579 | B20: =AVERAGE(B1:B19) -> 1.6210526 | C20: =AVERAGE(C1:C19) -> 1.5578947 | D20: =AVERAGE(D1:D19) -> 14.5722 | E20: Ср.значение
A21: =STDEVPA(A1:A19) -> 2.1609478 | B21: =STDEVPA(B1:B19) -> 1.961358 | C21: =STDEVPA(C1:C19) -> 1.7132044 | D21: =STDEVPA(D1:D19) -> 18.324014 | E21: Ср. квадратическое отклонение
B22: =Лист3!B18 -> 1.3827798 | C22: =Лист3!B19 -> -1.3134491 | D22: =Лист3!B20 -> -0.053993681 | E22: Коэфф. Чистой регрессии
B23: =Лист2!B3 -> 0.42400309 | C23: =Лист2!B4 -> 0.38655435 | D23: =Лист2!B5 -> -0.51445993 | E23: Коэфф. Парной корреляции
B24: =B22*B20/$A$20 -> 0.43414492 | C24: =C22*C20/$A$20 -> -0.39631084 | D24: =D22*D20/$A$20 -> -0.15238866 | E24: эластичности
B25: =1.383*B21/A21 -> 1.2552632 | C25: =-1.313*C21/A21 -> -1.0409494 | D25: =-0.054*D21/A21 -> -0.45789943 | E25: бета-коэффициенты
B26: =B25*0.424 -> 0.53223158 | C26: =C25*0.387 -> -0.40284743 | D26: =D25*-0.514 -> 0.23536031 | E26: коэффициент отдельного опр.
D27: =B26+C26+D26 -> 0.36474445 | E27: детерминация

Sheet Лист5
B1: Столбец 1 | C1: Столбец 2 | D1: Столбец 3 | E1: Столбец 4 | F1: Столбец 5 | G1: Столбец 6 | H1: Столбец 7 | I1: Столбец 8 | J1: Столбец 9
A2: Столбец 1 | B2: 1
A3: Столбец 2 | B3: -0.16737972 | C3: 1
A4: Столбец 3 | B4: 0.29845212 | C4: -0.19079658 | D4: 1
A5: Столбец 4 | B5: 0.13885989 | C5: -0.1287169 | D5: 0.050816709 | E5: 1
A6: Столбец 5 | B6: -0.51445604 | C6: 0.6640088 | D6: -0.1557217 | E6: -0.13581914 | F6: 1
A7: Столбец 6 | B7: 0.42400309 | C7: 0.062116578 | D7: 0.45116181 | E7: 0.14014678 | F7: -0.40841353 | G7: 1
A8: Столбец 7 | B8: 0.38655435 | C8: -0.00061160341 | D8: 0.48865136 | E8: 0.11064549 | F8: -0.43803929 | G8: 0.97780379 | H8: 1
A9: Столбец 8 | B9: 0.084118709 | C9: 0.17145834 | D9: 0.23020522 | E9: 0.18902919 | F9: 0.31988209 | G9: 0.081314365 | H9: 0.039785002 | I9: 1
A10: Столбец 9 | B10: 0.20919923 | C10: -0.01213088 | D10: 0.26722845 | E10: 0.17076183 | F10: 0.24491786 | G10: 0.0299415 | H10: -0.074903228 | I10: 0.2456008 | J10: 1

Sheet Лист6
A1: ВЫВОД ИТОГОВ
A3: Регрессионная статистика
A4: Множественный R | B4: 0.74433588
A5: R-квадрат | B5: 0.5540359
A6: Нормированный R-квадрат | B6: 0.19726462
A7: Стандартная ошибка | B7: 1.989166
A8: Наблюдения | B8: 19
A10: Дисперсионный анализ
B11: df | C11: SS | D11: MS | E11: F | F11: Значимость F
A12: Регрессия | B12: 8 | C12: 49.156398 | D12: 6.1445497 | E12: 1.5529162 | F12: 0.25272484
A13: Остаток | B13: 10 | C13: 39.567813 | D13: 3.9567813
A14: Итого | B14: 18 | C14: 88.724211
B16: Коэффициенты | C16: Стандартная ошибка | D16: t-статистика | E16: P-Значение | F16: Нижние 95% | G16: Верхние 95% | H16: Нижние 95,0% | I16: Верхние 95,0%
A17: Y-пересечение | B17: -34.518248 | C17: 25.672742 | D17: -1.3445485 | E17: 0.20847423 | F17: -91.720683 | G17: 22.684187 | H17: -91.720683 | I17: 22.684187
A18: Переменная X 1 | B18: 0.27180631 | C18: 0.18295263 | D18: 1.4856649 | E18: 0.16819662 | F18: -0.13583756 | G18: 0.67945018 | H18: -0.13583756 | I18: 0.67945018
A19: Переменная X 2 | B19: 0.012467836 | C19: 0.03096675 | D19: 0.4026201 | E19: 0.69569993 | F19: -0.056530383 | G19: 0.081466055 | H19: -0.056530383 | I19: 0.081466055
A20: Переменная X 3 | B20: -0.015116048 | C20: 0.095303282 | D20: -0.15860994 | E20: 0.87713359 | F20: -0.22746499 | G20: 0.1972329 | H20: -0.22746499 | I20: 0.1972329
A21: Переменная X 4 | B21: -0.13491385 | C21: 0.053872421 | D21: -2.5043214 | E21: 0.03121487 | F21: -0.25494909 | G21: -0.01487862 | H21: -0.25494909 | I21: -0.01487862
A22: Переменная X 5 | B22: -0.54697388 | C22: 1.6520115 | D22: -0.33109568 | E22: 0.7474057 | F22: -4.227885 | G22: 3.1339372 | H22: -4.227885 | I22: 3.1339372
A23: Переменная X 6 | B23: 0.43119142 | C23: 1.8477698 | D23: 0.23335776 | E23: 0.82019106 | F23: -3.6858962 | G23: 4.548279 | H23: -3.6858962 | I23: 4.548279
A24: Переменная X 7 | B24: 0.0069854191 | C24: 0.0072510577 | D24: 0.96336554 | E24: 0.35808129 | F24: -0.0091709442 | G24: 0.023141783 | H24: -0.0091709442 | I24: 0.023141783
A25: Переменная X 8 | B25: 0.25244432 | C25: 0.17932895 | D25: 1.4077165 | E25: 0.1895326 | F25: -0.14712548 | G25: 0.65201412 | H25: -0.14712548 | I25: 0.65201412

Sheet Лист7
A1: ВЫВОД ИТОГОВ
A3: Регрессионная статистика
A4: Множественный R | B4: 0.56631113
A5: R-квадрат | B5: 0.3207083
A6: Нормированный R-квадрат | B6: 0.18484996
A7: Стандартная ошибка | B7: 2.0044886
A8: Наблюдения | B8: 19
A10: Дисперсионный анализ
B11: df | C11: SS | D11: MS | E11: F | F11: Значимость F
A12: Регрессия | B12: 3 | C12: 28.454591 | D12: 9.4848636 | E12: 2.3606081 | F12: 0.11246356
A13: Остаток | B13: 15 | C13: 60.26962 | D13: 4.0179746
A14: Итого | B14: 18 | C14: 88.724211
B16: Коэффициенты | C16: Стандартная ошибка | D16: t-статистика | E16: P-Значение | F16: Нижние 95% | G16: Верхние 95% | H16: Нижние 95,0% | I16: Верхние 95,0%
A17: Y-пересечение | B17: 4.5574965 | C17: 1.5688206 | D17: 2.9050463 | E17: 0.010882729 | F17: 1.2136345 | G17: 7.9013585 | H17: 1.2136345 | I17: 7.9013585
A18: Переменная X 1 | B18: 0.13503996 | C18: 0.33899859 | D18: 0.39834963 | E18: 0.69598502 | F18: -0.58751842 | G18: 0.85759834 | H18: -0.58751842 | I18: 0.85759834
A19: Переменная X 2 | B19: 0.01875823 | C19: 0.025828185 | D19: 0.72626978 | E19: 0.47885397 | F19: -0.036293243 | G19: 0.073809704 | H19: -0.036293243 | I19: 0.073809704
A20: Переменная X 3 | B20: -0.051884802 | C20: 0.027998625 | D20: -1.8531196 | E20: 0.083640389 | F20: -0.11156246 | G20: 0.0077928548 | H20: -0.11156246 | I20: 0.0077928548

Sheet Лист8
B1: Столбец 1 | C1: Столбец 2 | D1: Столбец 3 | E1: Столбец 4
A2: Столбец 1 | B2: 1
A3: Столбец 2 | B3: 0.38655435 | C3: 1
A4: Столбец 3 | B4: 0.29845212 | C4: 0.48865136 | D4: 1
A5: Столбец 4 | B5: -0.51445604 | C5: -0.43803929 | D5: -0.1557217 | E5: 1

Sheet Лист4
B1: ВАЛОВАЯ ПРИБЫЛЬ В ПРОЦЕНТАХ К ОБЪЕМУ ПРОДАЖ ТОВАРОВ И УСЛУГ ПРЕДПРИЯТИЯМИ РОЗНИЧНОЙ ТОРГОВЛИ | C1: УДЕЛЬНЫЙ ВЕС ОТДЕЛЬНЫХ СТРАН В МИРОВОМ ИМПОРТЕ | D1: Индекс физического объема ВВП на душу населения в | E1: Число предприятий обрабатывающих производств на душу населения | F1: УДЕЛЬНЫЙ ВЕС ОТДЕЛЬНЫХ СТРАН В МИРОВОМ ЭКСПОРТЕ | G1: Коэффициент занятости % | H1: КОЭФФИЦИЕНТ ПОКРЫТИЯ ИМПОРТА ЭКСПОРТОМ | I1: Удельный вес экономически активного населения в общей численности населения в процентах | J1: Индексы промышленного производства в процентах к предыдущему году | M1: Численность занятых в экономике | N1: ЧИСЛО ПРЕДПРИЯТИЙ РОЗНИЧНОЙ ТОРГОВЛИ | O1: ИНДЕКСЫ ФИЗИЧЕСКОГО ОБЪЕМА ОБОРОТА РОЗНИЧНОЙ ТОРГОВЛИ | P1: ИНДЕКСЫ ФИЗИЧЕСКОГО ОБЪЕМА ОБОРОТА РОЗНИЧНОЙ ТОРГОВЛИ ПРОДУКТАМИ ПИТАНИЯ, НАПИТКАМИ И ТАБАЧНЫМИ ИЗДЕЛИЯМИ В ОТДЕЛЬНЫХ СТРАНАХ | Q1: ИНДЕКСЫ ФИЗИЧЕСКОГО ОБЪЕМА ОБОРОТА РОЗНИЧНОЙ ТОРГОВЛИ НЕПРОДОВОЛЬСТВЕННЫМИ ТОВАРАМИ В ОТДЕЛЬНЫХ СТРАНАХ
A2: Россия | B2: 10.7 | C2: 1.5 | D2: 43 | E2: 1.2 | F2: 2.6 | G2: 92.5 | H2: 173.2 | I2: 53 | J2: 108.2 | M2: 69934 | N2: 13.9 | O2: 107 | P2: 105 | Q2: 108
A3: Австрия | B3: 6.2 | C3: 1 | D3: 85 | E3: 11.5 | F3: 1 | G3: 95.7 | H3: 96.2 | I3: 51 | J3: 107 | M3: 4096 | N3: 4.8 | O3: 102 | P3: 103 | Q3: 102
A4: Бельгия | B4: 6 | C4: 2.6 | D4: 79 | E4: 9.5 | F4: 2.7 | G4: 91.9 | H4: 104.3 | I4: 44 | J4: 112 | M4: 4489 | N4: 7.2 | O4: 107 | P4: 100 | Q4: 99.5
A5: Болгария | B5: 2.7 | C5: 0.2 | D5: 30 | E5: 11.1 | F5: 0.1 | G5: 91.1 | H5: 80.8 | I5: 44 | J5: 102 | M5: 3053 | N5: 13.6 | O5: 92 | P5: 102 | Q5: 97
A6: Венгрия | B6: 1.9 | C6: 0.6 | D6: 44 | E6: 10.8 | F6: 0.6 | G6: 89.3 | H6: 108.2 | I6: 43 | J6: 111 | M6: 3781 | N6: 8.8 | O6: 98 | P6: 98 | Q6: 99
A7: Германия | B7: 5.5 | C7: 7 | D7: 79 | E7: 1.5 | F7: 8.4 | G7: 92 | H7: 119.4 | I7: 52 | J7: 111 | M7: 38738 | N7: 4 | O7: 101 | P7: 99.5 | Q7: 103
A8: Дания | B8: 4.2 | C8: 0.5 | D8: 84 | E8: 6.1 | F8: 0.6 | G8: 80.1 | H8: 34 | I8: 53 | J8: 102 | M8: 2706 | N8: 3.9 | O8: 99 | P8: 99 | Q8: 99
A9: Испания | B9: 7.4 | C9: 2.1 | D9: 71 | E9: 1.7 | F9: 1.6 | G9: 91.3 | H9: 78 | I9: 50 | J9: 101 | M9: 18457 | N9: 10.5 | O9: 104 | P9: - | Q9: -
A10: Италия | B10: 7 | C10: 3.2 | D10: 71 | E10: 1.5 | F10: 3 | G10: 77.8 | H10: 91.8 | I10: 41 | J10: 107 | M10: 22872 | N10: 10.7 | O10: 100 | P10: 100 | Q10: 101
A11: Латвия | B11: 4 | C11: 0.1 | D11: 39 | E11: 37.8 | F11: 0.1 | G11: 79.5 | H11: 79.4 | I11: 52 | J11: 115 | M11: 941 | N11: 6.2 | O11: - | P11: - | Q11: -
A12: Литва | B12: 2.1 | C12: 0.2 | D12: 42 | E12: 29.5 | F12: 0.1 | G12: 95.9 | H12: 88.6 | I12: 50 | J12: 107 | M12: 1344 | N12: 10.6 | O12: - | P12: - | Q12: -
A13: Нидерланды | B13: 7.9 | C13: 2.9 | D13: 91 | E13: 6.7 | F13: 3.3 | G13: 96.5 | H13: 111.9 | I13: 53 | J13: 107 | M13: 8370 | N13: 5.6 | O13: 99 | P13: 101 | Q13: 99
A14: Польша | B14: 7 | C14: 1.2 | D14: 39 | E14: 2.3 | F14: 1.1 | G14: 90.6 | H14: 89.7 | I14: 47 | J14: 111 | M14: 15961 | N14: 8.7 | O14: 106 | P14: 99 | Q14: 110
A15: Португалия | B15: 4.8 | C15: 0.5 | D15: 53 | E15: 6 | F15: 0.3 | G15: 89.6 | H15: 63.6 | I15: 53 | J15: 102 | M15: 4978 | N15: 14.8 | O15: - | P15: - | Q15: -
A16: Румыния | B16: 4.4 | C16: 0.4 | D16: 32 | E16: 3.7 | F16: 0.3 | G16: 92.3 | H16: 79.8 | I16: 46 | J16: 106 | M16: 9239 | N16: 5.2 | O16: 93 | P16: 91 | Q16: 89
A17: Финляндия | B17: 4.8 | C17: 0.5 | D17: 81 | E17: 18.7 | F17: 0.5 | G17: 89.8 | H17: 101 | I17: 50 | J17: 106 | M17: 2448 | N17: 4.2 | O17: 102 | P17: 105 | Q17: 103
A18: Франция | B18: 4.7 | C18: 4 | D18: 73 | E18: 1.3 | F18: 3.4 | G18: 90.5 | H18: 84.9 | I18: 45 | J18: 105 | M18: 25692 | N18: 6.7 | O18: 103 | P18: 102 | Q18: 104
A19: Швеция | B19: 4.2 | C19: 1 | D19: 84 | E19: 43.2 | F19: 1 | G19: 90.7 | H19: 406.5 | I19: 53 | J19: 109 | M19: 4546 | N19: 6.4 | O19: 103 | P19: 100 | Q19: 106
A20: Эстония | B20: 2.6 | C20: 0.1 | D20: 46 | E20: 72.7 | F20: 0.1 | G20: 87.3 | H20: 94.5 | I20: 50 | J20: 121 | M20: 571 | N20: 3.5 | O20: - | P20: - | Q20: -
